BEGIN:VCALENDAR
VERSION:2.0
PRODID:-//Drupal iCal API//EN
X-WR-CALNAME:Events items teaser
X-WR-TIMEZONE:America/Toronto
BEGIN:VTIMEZONE
TZID:America/Toronto
X-LIC-LOCATION:America/Toronto
BEGIN:DAYLIGHT
TZNAME:EDT
TZOFFSETFROM:-0500
TZOFFSETTO:-0400
DTSTART:20170312T070000
END:DAYLIGHT
BEGIN:STANDARD
TZNAME:EST
TZOFFSETFROM:-0400
TZOFFSETTO:-0500
DTSTART:20161106T060000
END:STANDARD
END:VTIMEZONE
BEGIN:VEVENT
UID:69c233500859f
DTSTART;TZID=America/Toronto:20170602T130000
SEQUENCE:0
TRANSP:TRANSPARENT
DTEND;TZID=America/Toronto:20170602T130000
URL:https://uwaterloo.ca/artificial-intelligence-group/events/phd-seminar-b
 idder-profiling-acquisition-and-analysis-market
LOCATION:DC - William G. Davis Computer Research Centre 200 University Aven
 ue West 3323 Waterloo ON N2L 3G1 Canada
SUMMARY:PhD Seminar: Bidder Profiling by Acquisition and Analysis of Market
 \nData in Water Distribution Industry
CLASS:PUBLIC
DESCRIPTION:Speaker: Milad Khaki\, PhD Candidate\n\nThe project involves th
 e analysis of procurement auctions for water\ninfrastructure maintenance p
 rojects for Cities of Niagara Falls and\nLondon. The primary concern of th
 is proposal is to generate a reliable\nmechanism for importing different f
 ormats of the tender summaries\,\nprovided as input data\, of the projects
  and unify them in a database\nfor further exploration and processing.
DTSTAMP:20260324T064640Z
END:VEVENT
END:VCALENDAR