BEGIN:VCALENDAR
VERSION:2.0
PRODID:-//Drupal iCal API//EN
X-WR-CALNAME:Events items teaser
X-WR-TIMEZONE:America/Toronto
BEGIN:VTIMEZONE
TZID:America/Toronto
X-LIC-LOCATION:America/Toronto
BEGIN:DAYLIGHT
TZNAME:EDT
TZOFFSETFROM:-0500
TZOFFSETTO:-0400
DTSTART:20170312T070000
END:DAYLIGHT
BEGIN:STANDARD
TZNAME:EST
TZOFFSETFROM:-0400
TZOFFSETTO:-0500
DTSTART:20161106T060000
END:STANDARD
END:VTIMEZONE
BEGIN:VEVENT
UID:69c2335c75773
DTSTART;TZID=America/Toronto:20170405T140000
SEQUENCE:0
TRANSP:TRANSPARENT
DTEND;TZID=America/Toronto:20170405T140000
URL:https://uwaterloo.ca/artificial-intelligence-group/events/phd-seminar-o
 nline-bayesian-transfer-learning-sequential
LOCATION:DC - William G. Davis Computer Research Centre 200 University Aven
 ue West 2306C Waterloo ON N2L 3G1 Canada
SUMMARY:PhD Seminar: Online Bayesian Transfer Learning for Sequential Data\
 nModeling
CLASS:PUBLIC
DESCRIPTION:Speaker: Priyank Jaini\, PhD\n\nWe consider the problem of infe
 rring a sequence of hidden states\nassociated with a sequence of observati
 ons produced by an individual\nwithin a population. Instead of learning a 
 single sequence model for\nthe population (which does not account for vari
 ations within the\npopulation)\, we learn a set of basis sequence models b
 ased on\ndifferent individuals.
DTSTAMP:20260324T064652Z
END:VEVENT
END:VCALENDAR