BEGIN:VCALENDAR
VERSION:2.0
PRODID:-//Drupal iCal API//EN
X-WR-CALNAME:Events items teaser
X-WR-TIMEZONE:America/Toronto
BEGIN:VTIMEZONE
TZID:America/Toronto
X-LIC-LOCATION:America/Toronto
BEGIN:DAYLIGHT
TZNAME:EDT
TZOFFSETFROM:-0500
TZOFFSETTO:-0400
DTSTART:20160313T070000
END:DAYLIGHT
BEGIN:STANDARD
TZNAME:EST
TZOFFSETFROM:-0400
TZOFFSETTO:-0500
DTSTART:20161106T060000
END:STANDARD
END:VTIMEZONE
BEGIN:VEVENT
UID:69b5728390b2a
DTSTART;TZID=America/Toronto:20170216T150000
SEQUENCE:0
TRANSP:TRANSPARENT
DTEND;TZID=America/Toronto:20170216T150000
URL:https://uwaterloo.ca/artificial-intelligence-group/events/ai-seminar-se
 mi-supervised-affective-meaning-lexicon
LOCATION:DC - William G. Davis Computer Research Centre 200 University Aven
 ue West 2584 Waterloo ON N2L 3G1 Canada
SUMMARY:AI Seminar: Semi-Supervised Affective Meaning Lexicon Expansion Usi
 ng\nSemantic and Distributed Word Representations
CLASS:PUBLIC
DESCRIPTION:Speaker: Areej Alhothali\, PhD Candidate\n\nWe propose an exten
 sion to graph-based sentiment lexicon induction\nmethods by incorporating 
 distributed and semantic word representations\nin building the similarity 
 graph to expand a three-dimensional\nsentiment lexicon. We also present a 
 comprehensive evaluation of four\ngraph-based propagation approaches using
  different word\nrepresentations and similarity metrics.
DTSTAMP:20260314T143651Z
END:VEVENT
END:VCALENDAR