BEGIN:VCALENDAR
VERSION:2.0
PRODID:-//Drupal iCal API//EN
X-WR-CALNAME:Events items teaser
X-WR-TIMEZONE:America/Toronto
BEGIN:VTIMEZONE
TZID:America/Toronto
X-LIC-LOCATION:America/Toronto
BEGIN:DAYLIGHT
TZNAME:EDT
TZOFFSETFROM:-0500
TZOFFSETTO:-0400
DTSTART:20180311T070000
END:DAYLIGHT
BEGIN:STANDARD
TZNAME:EST
TZOFFSETFROM:-0400
TZOFFSETTO:-0500
DTSTART:20171105T060000
END:STANDARD
END:VTIMEZONE
BEGIN:VEVENT
UID:69b6fe9a478b2
DTSTART;TZID=America/Toronto:20180605T120000
SEQUENCE:0
TRANSP:TRANSPARENT
DTEND;TZID=America/Toronto:20180605T120000
URL:https://uwaterloo.ca/artificial-intelligence-group/events/ai-seminar-ma
 king-fair-and-efficient-collective-decisions
LOCATION:DC - William G. Davis Computer Research Centre 200 University Aven
 ue West 2306C Waterloo ON N2L 3G1 Canada
SUMMARY:AI Seminar: Making Fair and Efficient Collective Decisions
CLASS:PUBLIC
DESCRIPTION:Nisarg Shah\, Department of Computer Science\nUniversity of Tor
 onto\n\nAlgorithms are increasingly making decisions that affect humans. T
 he\nfield of computational social choice deals with algorithms for\nelicit
 ing individual preferences and making collective decisions.\nEveryday exam
 ples of such decisions include citizens electing their\nrepresentatives\, 
 roommates dividing collectively purchased items\, or\nresidents voting ove
 r allocation of city's budget. Making reasonable\ncollective decisions req
 uires viewing the problem through the lenses\nof elicitation\, fairness\, 
 efficiency\, incentives\, and ethics.
DTSTAMP:20260315T184650Z
END:VEVENT
END:VCALENDAR