BEGIN:VCALENDAR
VERSION:2.0
PRODID:-//Drupal iCal API//EN
X-WR-CALNAME:Events items teaser
X-WR-TIMEZONE:America/Toronto
BEGIN:VTIMEZONE
TZID:America/Toronto
X-LIC-LOCATION:America/Toronto
BEGIN:DAYLIGHT
TZNAME:EDT
TZOFFSETFROM:-0500
TZOFFSETTO:-0400
DTSTART:20180311T070000
END:DAYLIGHT
BEGIN:STANDARD
TZNAME:EST
TZOFFSETFROM:-0400
TZOFFSETTO:-0500
DTSTART:20171105T060000
END:STANDARD
END:VTIMEZONE
BEGIN:VEVENT
UID:69b6fe95046ae
DTSTART;TZID=America/Toronto:20180724T140000
SEQUENCE:0
TRANSP:TRANSPARENT
DTEND;TZID=America/Toronto:20180724T140000
URL:https://uwaterloo.ca/artificial-intelligence-group/events/phd-seminar-g
 radient-based-filter-design-dual-tree-wavelet
LOCATION:DC - William G. Davis Computer Research Centre 200 University Aven
 ue West 2314 Waterloo ON N2L 3G1 Canada
SUMMARY:PhD Seminar: Gradient-based Filter Design for the Dual-tree Wavelet
 \nTransform
CLASS:PUBLIC
DESCRIPTION:Daniel Recoskie\, PhD candidate\nDavid R. Cheriton School of Co
 mputer Science\n\nThe wavelet transform has seen success when incorporated
  into neural\nnetwork architectures\, such as in wavelet scattering networ
 ks. More\nrecently\, it has been shown that the dual-tree complex wavelet\
 ntransform can provide better representations than the standard\ntransform
 .
DTSTAMP:20260315T184645Z
END:VEVENT
END:VCALENDAR