BEGIN:VCALENDAR
VERSION:2.0
PRODID:-//Drupal iCal API//EN
X-WR-CALNAME:Events items teaser
X-WR-TIMEZONE:America/Toronto
BEGIN:VTIMEZONE
TZID:America/Toronto
X-LIC-LOCATION:America/Toronto
BEGIN:DAYLIGHT
TZNAME:EDT
TZOFFSETFROM:-0500
TZOFFSETTO:-0400
DTSTART:20180311T070000
END:DAYLIGHT
BEGIN:STANDARD
TZNAME:EST
TZOFFSETFROM:-0400
TZOFFSETTO:-0500
DTSTART:20171105T060000
END:STANDARD
END:VTIMEZONE
BEGIN:VEVENT
UID:69b525959cdda
DTSTART;TZID=America/Toronto:20180814T160000
SEQUENCE:0
TRANSP:TRANSPARENT
DTEND;TZID=America/Toronto:20180814T160000
URL:https://uwaterloo.ca/artificial-intelligence-group/events/phd-seminar-d
 iscriminative-training-sum-product-networks
LOCATION:DC - William G. Davis Computer Research Centre 200 University Aven
 ue West 2306C Waterloo ON N2L 3G1 Canada
SUMMARY:PhD Seminar: Discriminative Training of Sum-Product Networks by\nEx
 tended Baum-Welch
CLASS:PUBLIC
DESCRIPTION:Abdullah Rashwan\, PhD candidate\nDavid R. Cheriton School of C
 omputer Science\n\nWe present a discriminative learning algorithm for Sum-
 Product\nNetworks (SPNs) based on the Extended Baum-Welch (EBW) algorithm.
DTSTAMP:20260314T090837Z
END:VEVENT
END:VCALENDAR