BEGIN:VCALENDAR
VERSION:2.0
PRODID:-//Drupal iCal API//EN
X-WR-CALNAME:Events items teaser
X-WR-TIMEZONE:America/Toronto
BEGIN:VTIMEZONE
TZID:America/Toronto
X-LIC-LOCATION:America/Toronto
BEGIN:DAYLIGHT
TZNAME:EDT
TZOFFSETFROM:-0500
TZOFFSETTO:-0400
DTSTART:20180311T070000
END:DAYLIGHT
BEGIN:STANDARD
TZNAME:EST
TZOFFSETFROM:-0400
TZOFFSETTO:-0500
DTSTART:20171105T060000
END:STANDARD
END:VTIMEZONE
BEGIN:VEVENT
UID:69b4b562e9524
DTSTART;TZID=America/Toronto:20181023T090000
SEQUENCE:0
TRANSP:TRANSPARENT
DTEND;TZID=America/Toronto:20181023T090000
URL:https://uwaterloo.ca/artificial-intelligence-group/events/masters-thesi
 s-presentation-coordination-peer-production
LOCATION:DC - William G. Davis Computer Research Centre 200 University Aven
 ue West 2310 Waterloo ON N2L 3G1 Canada
SUMMARY:Master’s Thesis Presentation: Coordination in a Peer Production\n
 Platform: A Study of Reddit’s /r/Place Experiment
CLASS:PUBLIC
DESCRIPTION:BEN ARMSTRONG\, MASTER’S CANDIDATE\n_David R. Cheriton School
  of Computer Science_\n\nUnderstanding the factors causing groups to engag
 e in coordinating\nbehaviour has been an active research area for decades
 . In\nthis thesis\, we study this problem using a novel dataset of crowd\
 nbehaviour from an online experiment hosted by Reddit.
DTSTAMP:20260314T010954Z
END:VEVENT
END:VCALENDAR