BEGIN:VCALENDAR
VERSION:2.0
PRODID:-//Drupal iCal API//EN
X-WR-CALNAME:Events items teaser
X-WR-TIMEZONE:America/Toronto
BEGIN:VTIMEZONE
TZID:America/Toronto
X-LIC-LOCATION:America/Toronto
BEGIN:DAYLIGHT
TZNAME:EDT
TZOFFSETFROM:-0500
TZOFFSETTO:-0400
DTSTART:20190310T070000
END:DAYLIGHT
BEGIN:STANDARD
TZNAME:EST
TZOFFSETFROM:-0400
TZOFFSETTO:-0500
DTSTART:20181104T060000
END:STANDARD
END:VTIMEZONE
BEGIN:VEVENT
UID:69bf2ed1115e5
DTSTART;TZID=America/Toronto:20190821T150000
SEQUENCE:0
TRANSP:TRANSPARENT
DTEND;TZID=America/Toronto:20190821T150000
URL:https://uwaterloo.ca/artificial-intelligence-group/events/masters-thesi
 s-presentation-neural-text-generation
LOCATION:DC - William G. Davis Computer Research Centre 200 University Aven
 ue West 2310 Waterloo ON N2L 3G1 Canada
SUMMARY:Master’s Thesis Presentation: Neural Text Generation from Structu
 red\nand Unstructured Data
CLASS:PUBLIC
DESCRIPTION:HAMIDREZA SHAHIDI\, MASTER’S CANDIDATE\n_David R. Cheriton Sc
 hool of Computer Science_\n\nA number of researchers have recently questio
 ned the necessity of\nincreasingly complex neural network (NN) architectur
 es. In particular\,\nseveral recent papers have shown that simpler\, prope
 rly tuned models\nare at least competitive across several natural language
  processing\n(NLP) tasks. 
DTSTAMP:20260321T235041Z
END:VEVENT
END:VCALENDAR