BEGIN:VCALENDAR
VERSION:2.0
PRODID:-//Drupal iCal API//EN
X-WR-CALNAME:Events items teaser
X-WR-TIMEZONE:America/Toronto
BEGIN:VTIMEZONE
TZID:America/Toronto
X-LIC-LOCATION:America/Toronto
BEGIN:DAYLIGHT
TZNAME:EDT
TZOFFSETFROM:-0500
TZOFFSETTO:-0400
DTSTART:20150308T070000
END:DAYLIGHT
BEGIN:STANDARD
TZNAME:EST
TZOFFSETFROM:-0400
TZOFFSETTO:-0500
DTSTART:20141102T060000
END:STANDARD
END:VTIMEZONE
BEGIN:VEVENT
UID:69b3eaa8881e4
DTSTART;TZID=America/Toronto:20150925T100000
SEQUENCE:0
TRANSP:TRANSPARENT
DTEND;TZID=America/Toronto:20150925T110000
URL:https://uwaterloo.ca/artificial-intelligence-group/events/ai-seminar-re
 presentation-learning-clustering-advice
LOCATION:DC - William G. Davis Computer Research Centre 200 University Aven
 ue West 2306C (AI lab) Waterloo ON N2L 3G1 Canada
SUMMARY:AI seminar: Representation learning for clustering with advice
CLASS:PUBLIC
DESCRIPTION:Speaker: Hassan Ashtiani\, PhD candidate\n\nWe address the prob
 lem of communicating domain knowledge from a domain\nexpert to the designe
 r of a clustering algorithm.
DTSTAMP:20260313T104456Z
END:VEVENT
END:VCALENDAR