BEGIN:VCALENDAR
VERSION:2.0
PRODID:-//Drupal iCal API//EN
X-WR-CALNAME:Events items teaser
X-WR-TIMEZONE:America/Toronto
BEGIN:VTIMEZONE
TZID:America/Toronto
X-LIC-LOCATION:America/Toronto
BEGIN:DAYLIGHT
TZNAME:EDT
TZOFFSETFROM:-0500
TZOFFSETTO:-0400
DTSTART:20150308T070000
END:DAYLIGHT
BEGIN:STANDARD
TZNAME:EST
TZOFFSETFROM:-0400
TZOFFSETTO:-0500
DTSTART:20141102T060000
END:STANDARD
END:VTIMEZONE
BEGIN:VEVENT
UID:69b1ad1766d2e
DTSTART;TZID=America/Toronto:20150626T100000
SEQUENCE:0
TRANSP:TRANSPARENT
DTEND;TZID=America/Toronto:20150626T100000
URL:https://uwaterloo.ca/artificial-intelligence-group/events/ai-seminar-ba
 yesian-reinforcement-learning-behavioral
LOCATION:DC - William G. Davis Computer Research Centre 200 University Aven
 ue West 2306C (AI lab) Waterloo ON N2L 3G1 Canada
SUMMARY:AI seminar: Bayesian reinforcement learning with behavioral feedbac
 k
CLASS:PUBLIC
DESCRIPTION:Speaker: Kee-Eung Kim\, Professor at the Korean Advanced Instit
 ute of\nScience and Technology\, on sabbatical at the University of\nPenns
 ylvania
DTSTAMP:20260311T175743Z
END:VEVENT
END:VCALENDAR