BEGIN:VCALENDAR
VERSION:2.0
PRODID:-//Drupal iCal API//EN
X-WR-CALNAME:Events items teaser
X-WR-TIMEZONE:America/Toronto
BEGIN:VTIMEZONE
TZID:America/Toronto
X-LIC-LOCATION:America/Toronto
BEGIN:DAYLIGHT
TZNAME:EDT
TZOFFSETFROM:-0500
TZOFFSETTO:-0400
DTSTART:20150308T070000
END:DAYLIGHT
BEGIN:STANDARD
TZNAME:EST
TZOFFSETFROM:-0400
TZOFFSETTO:-0500
DTSTART:20141102T060000
END:STANDARD
END:VTIMEZONE
BEGIN:VEVENT
UID:69bd28d98a67d
DTSTART;TZID=America/Toronto:20150703T100000
SEQUENCE:0
TRANSP:TRANSPARENT
DTEND;TZID=America/Toronto:20150703T100000
URL:https://uwaterloo.ca/artificial-intelligence-group/events/ai-seminar-re
 lationship-between-sum-product-networks-and
LOCATION:DC - William G. Davis Computer Research Centre 200 University Aven
 ue West 2306C (AI lab) Waterloo ON N2L 3G1 Canada
SUMMARY:AI seminar: On the relationship between sum product networks and\nB
 ayesian networks
CLASS:PUBLIC
DESCRIPTION:Speaker: Han Zhao\, University of Waterloo MSc graduate\n\nWe e
 stablish some theoretical connections between Sum-Product Networks\n(SPNs)
  and Bayesian Networks (BNs).
DTSTAMP:20260320T110041Z
END:VEVENT
END:VCALENDAR