BEGIN:VCALENDAR
VERSION:2.0
PRODID:-//Drupal iCal API//EN
X-WR-CALNAME:Events items teaser
X-WR-TIMEZONE:America/Toronto
BEGIN:VTIMEZONE
TZID:America/Toronto
X-LIC-LOCATION:America/Toronto
BEGIN:DAYLIGHT
TZNAME:EDT
TZOFFSETFROM:-0500
TZOFFSETTO:-0400
DTSTART:20120311T070000
END:DAYLIGHT
BEGIN:STANDARD
TZNAME:EST
TZOFFSETFROM:-0400
TZOFFSETTO:-0500
DTSTART:20111106T060000
END:STANDARD
END:VTIMEZONE
BEGIN:VEVENT
UID:69c230b973bdd
DTSTART;TZID=America/Toronto:20120420T113000
SEQUENCE:0
TRANSP:TRANSPARENT
DTEND;TZID=America/Toronto:20120420T113000
URL:https://uwaterloo.ca/artificial-intelligence-group/events/ai-seminar-cl
 uster-center-initialization-categorical-data
LOCATION:DC - William G. Davis Computer Research Centre 200 University Aven
 ue West 2306C (AI lab) Waterloo ON N2L 3G1 Canada
SUMMARY:AI seminar: cluster center initialization for categorical data usin
 g\nmultiple attribute clustering
CLASS:PUBLIC
DESCRIPTION:Speaker: Shehroz Khan\, University of Waterloo
DTSTAMP:20260324T063537Z
END:VEVENT
END:VCALENDAR