BEGIN:VCALENDAR
VERSION:2.0
PRODID:-//Drupal iCal API//EN
X-WR-CALNAME:Events items teaser
X-WR-TIMEZONE:America/Toronto
BEGIN:VTIMEZONE
TZID:America/Toronto
X-LIC-LOCATION:America/Toronto
BEGIN:DAYLIGHT
TZNAME:EDT
TZOFFSETFROM:-0500
TZOFFSETTO:-0400
DTSTART:20110313T070000
END:DAYLIGHT
BEGIN:STANDARD
TZNAME:EST
TZOFFSETFROM:-0400
TZOFFSETTO:-0500
DTSTART:20111106T060000
END:STANDARD
END:VTIMEZONE
BEGIN:VEVENT
UID:69bf76ebe518a
DTSTART;TZID=America/Toronto:20111202T113000
SEQUENCE:0
TRANSP:TRANSPARENT
DTEND;TZID=America/Toronto:20111202T113000
URL:https://uwaterloo.ca/artificial-intelligence-group/events/ai-seminar-re
 lational-approach-knowledge-engineering-pomdp
LOCATION:DC - William G. Davis Computer Research Centre 200 University Aven
 ue West 2306C (AI lab) Waterloo ON N2L 3G1 Canada
SUMMARY:AI seminar: Relational approach to knowledge engineering for\nPOMDP
 -based assistance systems as a translation of a psychological\nmodel
CLASS:PUBLIC
DESCRIPTION:Speaker: Marek Grzes\, University of Waterloo
DTSTAMP:20260322T045819Z
END:VEVENT
END:VCALENDAR