BEGIN:VCALENDAR
VERSION:2.0
PRODID:-//Drupal iCal API//EN
X-WR-CALNAME:Events items teaser
X-WR-TIMEZONE:America/Toronto
BEGIN:VTIMEZONE
TZID:America/Toronto
X-LIC-LOCATION:America/Toronto
BEGIN:DAYLIGHT
TZNAME:EDT
TZOFFSETFROM:-0500
TZOFFSETTO:-0400
DTSTART:20110313T070000
END:DAYLIGHT
BEGIN:STANDARD
TZNAME:EST
TZOFFSETFROM:-0400
TZOFFSETTO:-0500
DTSTART:20101107T060000
END:STANDARD
END:VTIMEZONE
BEGIN:VEVENT
UID:69b6fee3e0948
DTSTART;TZID=America/Toronto:20110811T140000
SEQUENCE:0
TRANSP:TRANSPARENT
DTEND;TZID=America/Toronto:20110811T140000
URL:https://uwaterloo.ca/artificial-intelligence-group/events/ai-seminar-we
 akly-supervised-detector-training
LOCATION:E5 - Engineering 5 200 University Avenue West 6111 Waterloo ON N2L
  3G1 Canada
SUMMARY:AI seminar: Weakly supervised detector training
CLASS:PUBLIC
DESCRIPTION:Speaker: Parthipan Siva\, Queen Mary University of London
DTSTAMP:20260315T184803Z
END:VEVENT
END:VCALENDAR