BEGIN:VCALENDAR
VERSION:2.0
PRODID:-//Drupal iCal API//EN
X-WR-CALNAME:Events items teaser
X-WR-TIMEZONE:America/Toronto
BEGIN:VTIMEZONE
TZID:America/Toronto
X-LIC-LOCATION:America/Toronto
BEGIN:DAYLIGHT
TZNAME:EDT
TZOFFSETFROM:-0500
TZOFFSETTO:-0400
DTSTART:20110313T070000
END:DAYLIGHT
BEGIN:STANDARD
TZNAME:EST
TZOFFSETFROM:-0400
TZOFFSETTO:-0500
DTSTART:20101107T060000
END:STANDARD
END:VTIMEZONE
BEGIN:VEVENT
UID:69b2ee9225f56
DTSTART;TZID=America/Toronto:20110727T103000
SEQUENCE:0
TRANSP:TRANSPARENT
DTEND;TZID=America/Toronto:20110727T103000
URL:https://uwaterloo.ca/artificial-intelligence-group/events/ai-seminar-vi
 sion-based-observation-models-lower-limb-3d
LOCATION:DC - William G. Davis Computer Research Centre 200 University Aven
 ue West 2306C (AI lab) Waterloo ON N2L 3G1 Canada
SUMMARY:AI seminar: Vision-based observation models for lower limb 3D track
 ing\nwith a moving platform
CLASS:PUBLIC
DESCRIPTION:Speaker: Richard Hu\, University of Waterloo
DTSTAMP:20260312T164922Z
END:VEVENT
END:VCALENDAR