BEGIN:VCALENDAR
VERSION:2.0
PRODID:-//Drupal iCal API//EN
X-WR-CALNAME:Events items teaser
X-WR-TIMEZONE:America/Toronto
BEGIN:VTIMEZONE
TZID:America/Toronto
X-LIC-LOCATION:America/Toronto
BEGIN:DAYLIGHT
TZNAME:EDT
TZOFFSETFROM:-0500
TZOFFSETTO:-0400
DTSTART:20210314T070000
END:DAYLIGHT
BEGIN:STANDARD
TZNAME:EST
TZOFFSETFROM:-0400
TZOFFSETTO:-0500
DTSTART:20201101T060000
END:STANDARD
END:VTIMEZONE
BEGIN:VEVENT
UID:69eac04824393
DTSTART;TZID=America/Toronto:20210325T083000
SEQUENCE:0
TRANSP:TRANSPARENT
DTEND;TZID=America/Toronto:20210325T160000
URL:https://uwaterloo.ca/artificial-intelligence-institute/events/waterlooa
 i-and-amc-ai-industry-day-webinar-event-march-25
SUMMARY:Waterloo.AI and AMC: AI Industry Day - Webinar Event on March 25\, 
 2021\n| 8:30 am to 4:00 pm
CLASS:PUBLIC
DESCRIPTION:[Image of AI Industry Day Banner]
DTSTAMP:20260424T005848Z
END:VEVENT
END:VCALENDAR