BEGIN:VCALENDAR
VERSION:2.0
PRODID:-//Drupal iCal API//EN
X-WR-CALNAME:Events items teaser
X-WR-TIMEZONE:America/Toronto
BEGIN:VTIMEZONE
TZID:America/Toronto
X-LIC-LOCATION:America/Toronto
BEGIN:DAYLIGHT
TZNAME:EDT
TZOFFSETFROM:-0500
TZOFFSETTO:-0400
DTSTART:20170312T070000
END:DAYLIGHT
BEGIN:STANDARD
TZNAME:EST
TZOFFSETFROM:-0400
TZOFFSETTO:-0500
DTSTART:20161106T060000
END:STANDARD
END:VTIMEZONE
BEGIN:VEVENT
UID:69eb60137abbb
DTSTART;TZID=America/Toronto:20171101T190000
SEQUENCE:0
TRANSP:TRANSPARENT
DTEND;TZID=America/Toronto:20171101T190000
URL:https://uwaterloo.ca/arts/events/canada-150-lecture-series-truth-and-re
 conciliation-canadian
LOCATION:Knox Waterloo Presbyterian Church 50 Erb Street West Waterloo ON C
 anada
SUMMARY:Canada 150 Lecture Series: Truth and Reconciliation in Canadian\nPo
 st-Secondary Education
CLASS:PUBLIC
DESCRIPTION:As we recognize 150 years of Confederation\, this lecture serie
 s\nexplores Canada's past\, present\, and future. These are free public\nl
 ectures brought to you by the University of Waterloo and Wilfrid\nLaurier 
 University\, in partnership with Waterloo Public Library and\nthe City of 
 Waterloo.
DTSTAMP:20260424T122035Z
END:VEVENT
END:VCALENDAR