BEGIN:VCALENDAR
VERSION:2.0
PRODID:-//Drupal iCal API//EN
X-WR-CALNAME:Events items teaser
X-WR-TIMEZONE:America/Toronto
BEGIN:VTIMEZONE
TZID:America/Toronto
X-LIC-LOCATION:America/Toronto
BEGIN:DAYLIGHT
TZNAME:EDT
TZOFFSETFROM:-0500
TZOFFSETTO:-0400
DTSTART:20240310T070000
END:DAYLIGHT
BEGIN:STANDARD
TZNAME:EST
TZOFFSETFROM:-0400
TZOFFSETTO:-0500
DTSTART:20231105T060000
END:STANDARD
END:VTIMEZONE
BEGIN:VEVENT
UID:69e2db506cdfd
DTSTART;TZID=America/Toronto:20240624T090000
SEQUENCE:0
TRANSP:TRANSPARENT
DTEND;TZID=America/Toronto:20240624T120000
URL:https://uwaterloo.ca/arts/events/teaching-writing-after-generative-ai-e
 xpert-panel-open
LOCATION:Davis Centre Library\, Room 1568\, DC - William G. Davis Computer 
 Research Centre 200 University Avenue West Waterloo ON N2L 3G1 Canada
SUMMARY:Teaching Writing After Generative AI: An Expert Panel\, Open\nConve
 rsation and Workshop
CLASS:PUBLIC
DESCRIPTION:An event for instructors who are grappling with challenges face
 d by\ngenerative AI\, specifically in writing assignments.
DTSTAMP:20260418T011600Z
END:VEVENT
END:VCALENDAR