BEGIN:VCALENDAR
VERSION:2.0
PRODID:-//Drupal iCal API//EN
X-WR-CALNAME:Events items teaser
X-WR-TIMEZONE:America/Toronto
BEGIN:VTIMEZONE
TZID:America/Toronto
X-LIC-LOCATION:America/Toronto
BEGIN:DAYLIGHT
TZNAME:EDT
TZOFFSETFROM:-0500
TZOFFSETTO:-0400
DTSTART:20240310T070000
END:DAYLIGHT
BEGIN:STANDARD
TZNAME:EST
TZOFFSETFROM:-0400
TZOFFSETTO:-0500
DTSTART:20241103T060000
END:STANDARD
END:VTIMEZONE
BEGIN:VEVENT
UID:69e3751a95183
DTSTART;TZID=America/Toronto:20250124T150000
SEQUENCE:0
TRANSP:TRANSPARENT
DTEND;TZID=America/Toronto:20250124T163000
URL:https://uwaterloo.ca/arts/events/critical-tech-talk-11-speculative-imag
 inaries-and
SUMMARY:Critical Tech Talk 11: Speculative Imaginaries and Technological\nD
 esign
CLASS:PUBLIC
DESCRIPTION:Join the Critical Tech Talk series to hear guest speaker Sherry
 l Vint\,\nProfessor of Media and Cultural Studies at the University of\nCa
 lifornia\, on how speculative fiction can help us cultivate a more\ninclu
 sive social imagination.
DTSTAMP:20260418T121210Z
END:VEVENT
END:VCALENDAR