BEGIN:VCALENDAR
VERSION:2.0
PRODID:-//Drupal iCal API//EN
X-WR-CALNAME:Events items teaser
X-WR-TIMEZONE:America/Toronto
BEGIN:VTIMEZONE
TZID:America/Toronto
X-LIC-LOCATION:America/Toronto
BEGIN:DAYLIGHT
TZNAME:EDT
TZOFFSETFROM:-0500
TZOFFSETTO:-0400
DTSTART:20250309T070000
END:DAYLIGHT
BEGIN:STANDARD
TZNAME:EST
TZOFFSETFROM:-0400
TZOFFSETTO:-0500
DTSTART:20241103T060000
END:STANDARD
END:VTIMEZONE
BEGIN:VEVENT
UID:69e3758b8221e
DTSTART;TZID=America/Toronto:20250626T090000
SEQUENCE:0
TRANSP:TRANSPARENT
DTEND;TZID=America/Toronto:20250626T113000
URL:https://uwaterloo.ca/arts/events/visualizing-ev3-solar-panels
LOCATION:EV3 - Environment 3\, room 3412 200 University Avenue West Waterlo
 o ON N2L 3G1 Canada
SUMMARY:Visualizing the EV3 Solar Panels
CLASS:PUBLIC
DESCRIPTION:Professor Ian Rowlands will give a talk about the deployment of
  solar\npanels on the top of Waterloo’s EV3 building\, placing this with
 in\nthe context of solar energy policy and use in Ontario more broadly.
DTSTAMP:20260418T121403Z
END:VEVENT
END:VCALENDAR