BEGIN:VCALENDAR
VERSION:2.0
PRODID:-//Drupal iCal API//EN
X-WR-CALNAME:Events items teaser
X-WR-TIMEZONE:America/Toronto
BEGIN:VTIMEZONE
TZID:America/Toronto
X-LIC-LOCATION:America/Toronto
BEGIN:DAYLIGHT
TZNAME:EDT
TZOFFSETFROM:-0500
TZOFFSETTO:-0400
DTSTART:20250309T070000
END:DAYLIGHT
BEGIN:STANDARD
TZNAME:EST
TZOFFSETFROM:-0400
TZOFFSETTO:-0500
DTSTART:20241103T060000
END:STANDARD
END:VTIMEZONE
BEGIN:VEVENT
UID:69e375a1d127e
DTSTART;TZID=America/Toronto:20250724T163000
SEQUENCE:0
TRANSP:TRANSPARENT
DTEND;TZID=America/Toronto:20250724T180000
URL:https://uwaterloo.ca/arts/events/critical-tech-talk-12-vibe-coding-ai-c
 ancer-detection
LOCATION:DC 1350 - William G. Davis Computer Research Centre 200 University
  Avenue West Waterloo ON N2L 3G1 Canada
SUMMARY:Critical Tech Talk 12: Vibe Coding with AI for Cancer Detection -\n
 Building Mini Medical Machines in the Shadow of “Big Tech”
CLASS:PUBLIC
DESCRIPTION:Join the Critical Tech Talk series for a talk exploring how 
 “vibe\ncoding”\, a flexible\, intuition-driven approach to prototyping
 \, can\nempower people from non-computing backgrounds to shape the medical
 \ntools they actually need.
DTSTAMP:20260418T121425Z
END:VEVENT
END:VCALENDAR