BEGIN:VCALENDAR
VERSION:2.0
PRODID:-//Drupal iCal API//EN
X-WR-CALNAME:Events items teaser
X-WR-TIMEZONE:America/Toronto
BEGIN:VTIMEZONE
TZID:America/Toronto
X-LIC-LOCATION:America/Toronto
BEGIN:DAYLIGHT
TZNAME:EDT
TZOFFSETFROM:-0500
TZOFFSETTO:-0400
DTSTART:20250309T070000
END:DAYLIGHT
BEGIN:STANDARD
TZNAME:EST
TZOFFSETFROM:-0400
TZOFFSETTO:-0500
DTSTART:20251102T060000
END:STANDARD
END:VTIMEZONE
BEGIN:VEVENT
UID:69e375bfdee94
DTSTART;TZID=America/Toronto:20251201T143000
SEQUENCE:0
TRANSP:TRANSPARENT
DTEND;TZID=America/Toronto:20251201T160000
URL:https://uwaterloo.ca/arts/events/indigenous-histories-canada-projects-s
 howcase
LOCATION:LIB - Dana Porter Library 200 University Avenue West Waterloo ON N
 2L 3G1 Canada
SUMMARY:Indigenous Histories in Canada projects showcase
CLASS:PUBLIC
DESCRIPTION:Students taking HIST 269\, Indigenous Histories in Canada\, hav
 e spent\nthe term learning about the histories that took us off the path o
 f\nmutual respect\, non-interference\, and friendship. Stop by Dana Porter
 \nto see their course projects.
DTSTAMP:20260418T121455Z
END:VEVENT
END:VCALENDAR