BEGIN:VCALENDAR
VERSION:2.0
PRODID:-//Drupal iCal API//EN
X-WR-CALNAME:Events items teaser
X-WR-TIMEZONE:America/Toronto
BEGIN:VTIMEZONE
TZID:America/Toronto
X-LIC-LOCATION:America/Toronto
BEGIN:DAYLIGHT
TZNAME:EDT
TZOFFSETFROM:-0500
TZOFFSETTO:-0400
DTSTART:20250309T070000
END:DAYLIGHT
BEGIN:STANDARD
TZNAME:EST
TZOFFSETFROM:-0400
TZOFFSETTO:-0500
DTSTART:20251102T060000
END:STANDARD
END:VTIMEZONE
BEGIN:VEVENT
UID:69e6a24b2d457
DTSTART;TZID=America/Toronto:20251126T123000
SEQUENCE:0
TRANSP:TRANSPARENT
DTEND;TZID=America/Toronto:20251126T143000
URL:https://uwaterloo.ca/arts/events/workshop-dr-saed-atshan
LOCATION:HH - J.G. Hagey Hall of the Humanities (room number to be confirme
 d) 200 University Avenue West Waterloo ON N2L 3G1 Canada
SUMMARY:Workshop with Dr. Sa’ed Atshan
CLASS:PUBLIC
DESCRIPTION:Grad students! You are invited to participate in a research and
 \nwriting workshop on the complexities of conducting research\nwith/alongs
 ide/about Palestinians with Dr. Sa'ed Atshan. We will\nexplore the ethical
 \, methodological\, and contextual considerations\nthat scholars encounter
 \, including how broader political realities\nshape academic work.
DTSTAMP:20260420T220147Z
END:VEVENT
END:VCALENDAR