BEGIN:VCALENDAR
VERSION:2.0
PRODID:-//Drupal iCal API//EN
X-WR-CALNAME:Events items teaser
X-WR-TIMEZONE:America/Toronto
BEGIN:VTIMEZONE
TZID:America/Toronto
X-LIC-LOCATION:America/Toronto
BEGIN:DAYLIGHT
TZNAME:EDT
TZOFFSETFROM:-0500
TZOFFSETTO:-0400
DTSTART:20250309T070000
END:DAYLIGHT
BEGIN:STANDARD
TZNAME:EST
TZOFFSETFROM:-0400
TZOFFSETTO:-0500
DTSTART:20251102T060000
END:STANDARD
END:VTIMEZONE
BEGIN:VEVENT
UID:69ea538eb2a9e
DTSTART;TZID=America/Toronto:20251202T160000
SEQUENCE:0
TRANSP:TRANSPARENT
DTEND;TZID=America/Toronto:20251202T190000
URL:https://uwaterloo.ca/arts/events/desmarais-family-summit-public-exhibit
 ion
LOCATION:E7 - Engineering 7\, Second Floor Atrium 200 University Ave West W
 aterloo ON N2L 3G1 Canada
SUMMARY:Desmarais Family Summit — Public Exhibition
CLASS:PUBLIC
DESCRIPTION:Explore student-led projects from _ARTS 450: The Future of\nCon
 nection_\, examining how digital platforms shape privacy\,\nconnection\, a
 nd public life.  Engage with research imagining ethical\,\nhuman-centered
  digital futures\, and hear closing reflections from Dr.\nHeather Suzanne 
 Woods\, 2025 Jarislowsky Fellow
DTSTAMP:20260423T171454Z
END:VEVENT
END:VCALENDAR