BEGIN:VCALENDAR
VERSION:2.0
PRODID:-//Drupal iCal API//EN
X-WR-CALNAME:Events items teaser
X-WR-TIMEZONE:America/Toronto
BEGIN:VTIMEZONE
TZID:America/Toronto
X-LIC-LOCATION:America/Toronto
BEGIN:DAYLIGHT
TZNAME:EDT
TZOFFSETFROM:-0500
TZOFFSETTO:-0400
DTSTART:20250309T070000
END:DAYLIGHT
BEGIN:STANDARD
TZNAME:EST
TZOFFSETFROM:-0400
TZOFFSETTO:-0500
DTSTART:20251102T060000
END:STANDARD
END:VTIMEZONE
BEGIN:VEVENT
UID:69eb22d8bc5f7
DTSTART;TZID=America/Toronto:20251219T100000
SEQUENCE:0
TRANSP:TRANSPARENT
DTEND;TZID=America/Toronto:20251219T113000
URL:https://uwaterloo.ca/arts/events/faculty-arts-ai-forum
LOCATION:NH 3407 - Senate Chambers 200 University Avenue West Waterloo ON N
 2L 3G1 Canada
SUMMARY:Faculty of Arts AI Forum
CLASS:PUBLIC
DESCRIPTION:The Arts AI Forum gives the Faculty of Arts community an opport
 unity\nto exchange views\, learn from others\, and generate new ideas and\
 nprojects regarding Generative AI.
DTSTAMP:20260424T075920Z
END:VEVENT
END:VCALENDAR