BEGIN:VCALENDAR
VERSION:2.0
PRODID:-//Drupal iCal API//EN
X-WR-CALNAME:Events items teaser
X-WR-TIMEZONE:America/Toronto
BEGIN:VTIMEZONE
TZID:America/Toronto
X-LIC-LOCATION:America/Toronto
BEGIN:DAYLIGHT
TZNAME:EDT
TZOFFSETFROM:-0500
TZOFFSETTO:-0400
DTSTART:20250309T070000
END:DAYLIGHT
BEGIN:STANDARD
TZNAME:EST
TZOFFSETFROM:-0400
TZOFFSETTO:-0500
DTSTART:20251102T060000
END:STANDARD
END:VTIMEZONE
BEGIN:VEVENT
UID:69ea1237601af
DTSTART;TZID=America/Toronto:20260122T083000
SEQUENCE:0
TRANSP:TRANSPARENT
DTEND;TZID=America/Toronto:20260122T170000
URL:https://uwaterloo.ca/arts/events/arts-alumni-ski-days-2026
LOCATION:Town of the Blue Mountains (near Collingwood) ON L9Y 0R7 Canada
SUMMARY:Arts Alumni Ski Days 2026
CLASS:PUBLIC
DESCRIPTION:Save the date and plan to join us on the slopes to ski or snowb
 oard at\nthese exclusive and beautiful private resorts in the Blue Mountai
 ns\n(near Collingwood)! We’ll also be welcoming your classmates from the
 \nFaculty of Engineering\, Faculty of Health and the Faculty of Science\nt
 o join us on the hills.
DTSTAMP:20260423T123607Z
END:VEVENT
BEGIN:VEVENT
UID:69ea123764e37
DTSTART;TZID=America/Toronto:20260123T083000
SEQUENCE:0
TRANSP:TRANSPARENT
DTEND;TZID=America/Toronto:20260123T170000
URL:https://uwaterloo.ca/arts/events/arts-alumni-ski-days-2026
LOCATION:Town of the Blue Mountains (near Collingwood) ON L9Y 0R7 Canada
SUMMARY:Arts Alumni Ski Days 2026
CLASS:PUBLIC
DESCRIPTION:Save the date and plan to join us on the slopes to ski or snowb
 oard at\nthese exclusive and beautiful private resorts in the Blue Mountai
 ns\n(near Collingwood)! We’ll also be welcoming your classmates from the
 \nFaculty of Engineering\, Faculty of Health and the Faculty of Science\nt
 o join us on the hills.
DTSTAMP:20260423T123607Z
END:VEVENT
END:VCALENDAR