BEGIN:VCALENDAR
VERSION:2.0
PRODID:-//Drupal iCal API//EN
X-WR-CALNAME:Events items teaser
X-WR-TIMEZONE:America/Toronto
BEGIN:VTIMEZONE
TZID:America/Toronto
X-LIC-LOCATION:America/Toronto
BEGIN:DAYLIGHT
TZNAME:EDT
TZOFFSETFROM:-0500
TZOFFSETTO:-0400
DTSTART:20250309T070000
END:DAYLIGHT
BEGIN:STANDARD
TZNAME:EST
TZOFFSETFROM:-0400
TZOFFSETTO:-0500
DTSTART:20251102T060000
END:STANDARD
END:VTIMEZONE
BEGIN:VEVENT
UID:69eb22f2c242b
DTSTART;TZID=America/Toronto:20260126T173000
SEQUENCE:0
TRANSP:TRANSPARENT
DTEND;TZID=America/Toronto:20260126T190000
URL:https://uwaterloo.ca/arts/events/arts-re-org-student-townhall
LOCATION:ON Canada
SUMMARY:Online: Arts Re-org Student Townhall
CLASS:PUBLIC
DESCRIPTION:Arts undergrad and graduate students are invited to join a\nco
 nversation about the upcoming Arts reorganization to six schools\nwith the
  Dean of Arts and members of the Arts Re-Org Working Group\,\nmoderated by
  ASU’s VP Academic. This event will be entirely online\ndue to snow even
 t campus closure.
DTSTAMP:20260424T075946Z
END:VEVENT
END:VCALENDAR