BEGIN:VCALENDAR
VERSION:2.0
PRODID:-//Drupal iCal API//EN
X-WR-CALNAME:Events items teaser
X-WR-TIMEZONE:America/Toronto
BEGIN:VTIMEZONE
TZID:America/Toronto
X-LIC-LOCATION:America/Toronto
BEGIN:DAYLIGHT
TZNAME:EDT
TZOFFSETFROM:-0500
TZOFFSETTO:-0400
DTSTART:20190310T070000
END:DAYLIGHT
BEGIN:STANDARD
TZNAME:EST
TZOFFSETFROM:-0400
TZOFFSETTO:-0500
DTSTART:20191103T060000
END:STANDARD
END:VTIMEZONE
BEGIN:VEVENT
UID:69e9f98fc509c
DTSTART;TZID=America/Toronto:20200228T133000
SEQUENCE:0
TRANSP:TRANSPARENT
DTEND;TZID=America/Toronto:20200228T163000
URL:https://uwaterloo.ca/arts/events/policy-datafest-second-annual-multidis
 ciplinary-data-mining
LOCATION:EC5 - East Campus 5 305 Phillip St. Enterprise Theatre Waterloo ON
  N2L 5Z5 Canada
SUMMARY:Policy Datafest: second annual multidisciplinary data mining challe
 nge
CLASS:PUBLIC
DESCRIPTION:The Master of Public Service (MPS) program is proud to present
  Policy\nDatafest 2020\, the second annual two-day challenge in which gra
 duate\nstudents will analyze data sets provided by government departments\
 nand agencies.
DTSTAMP:20260423T105055Z
END:VEVENT
END:VCALENDAR