BEGIN:VCALENDAR
VERSION:2.0
PRODID:-//Drupal iCal API//EN
X-WR-CALNAME:Events items teaser
X-WR-TIMEZONE:America/Toronto
BEGIN:VTIMEZONE
TZID:America/Toronto
X-LIC-LOCATION:America/Toronto
BEGIN:DAYLIGHT
TZNAME:EDT
TZOFFSETFROM:-0500
TZOFFSETTO:-0400
DTSTART:20200308T070000
END:DAYLIGHT
BEGIN:STANDARD
TZNAME:EST
TZOFFSETFROM:-0400
TZOFFSETTO:-0500
DTSTART:20201101T060000
END:STANDARD
END:VTIMEZONE
BEGIN:VEVENT
UID:69ed1456ea5b6
DTSTART;TZID=America/Toronto:20201111T130000
SEQUENCE:0
TRANSP:TRANSPARENT
DTEND;TZID=America/Toronto:20201111T140000
URL:https://uwaterloo.ca/arts/events/conversations-cafe-future-work
SUMMARY:Conversations Cafe: Future of Work
CLASS:PUBLIC
DESCRIPTION:Given the uncertainties brought about by the pandemic\, are you
 \ninterested in knowing more about what the future of work might be?\nCome
  talk to industry HR professionals to learn more! 
DTSTAMP:20260425T192158Z
END:VEVENT
END:VCALENDAR