BEGIN:VCALENDAR
VERSION:2.0
PRODID:-//Drupal iCal API//EN
X-WR-CALNAME:Events items teaser
X-WR-TIMEZONE:America/Toronto
BEGIN:VTIMEZONE
TZID:America/Toronto
X-LIC-LOCATION:America/Toronto
BEGIN:DAYLIGHT
TZNAME:EDT
TZOFFSETFROM:-0500
TZOFFSETTO:-0400
DTSTART:20210314T070000
END:DAYLIGHT
BEGIN:STANDARD
TZNAME:EST
TZOFFSETFROM:-0400
TZOFFSETTO:-0500
DTSTART:20201101T060000
END:STANDARD
END:VTIMEZONE
BEGIN:VEVENT
UID:69ed2528ed6b2
DTSTART;TZID=America/Toronto:20210323T130000
SEQUENCE:0
TRANSP:TRANSPARENT
DTEND;TZID=America/Toronto:20210323T143000
URL:https://uwaterloo.ca/arts/events/alumni-virtual-hub-power-winter-2021
SUMMARY:Alumni in the (Virtual) Hub: Power Up Winter 2021
CLASS:PUBLIC
DESCRIPTION:Are you in need of a pep talk as you approach the end of the se
 mester?\nAre you curious about what you can do with your Arts degree?  Do
  you\nneed early professional career advice?\n\nCalling all ARTS students!
  Join us in our feature online event\, where\nwe will showcase the resilie
 nce stories of four inspiring Waterloo\nArts alumni. We will discuss early
  career guidance\, personal wellness\ntips\, time management and persevera
 nce.
DTSTAMP:20260425T203344Z
END:VEVENT
END:VCALENDAR