BEGIN:VCALENDAR
VERSION:2.0
PRODID:-//Drupal iCal API//EN
X-WR-CALNAME:Events items teaser
X-WR-TIMEZONE:America/Toronto
BEGIN:VTIMEZONE
TZID:America/Toronto
X-LIC-LOCATION:America/Toronto
BEGIN:DAYLIGHT
TZNAME:EDT
TZOFFSETFROM:-0500
TZOFFSETTO:-0400
DTSTART:20210314T070000
END:DAYLIGHT
BEGIN:STANDARD
TZNAME:EST
TZOFFSETFROM:-0400
TZOFFSETTO:-0500
DTSTART:20201101T060000
END:STANDARD
END:VTIMEZONE
BEGIN:VEVENT
UID:69ed14579bb9b
DTSTART;TZID=America/Toronto:20210722T130000
SEQUENCE:0
TRANSP:TRANSPARENT
DTEND;TZID=America/Toronto:20210722T143000
URL:https://uwaterloo.ca/arts/events/alumni-hub-making-best-your-undergrad
SUMMARY:Alumni in the Hub: Making the Best of Your Undergrad
CLASS:PUBLIC
DESCRIPTION:Don’t know what kind of career you want after graduating? Won
 dering\nwhat you can do with a BA? Curious about working abroad?
DTSTAMP:20260425T192159Z
END:VEVENT
END:VCALENDAR