BEGIN:VCALENDAR
VERSION:2.0
PRODID:-//Drupal iCal API//EN
X-WR-CALNAME:Events items teaser
X-WR-TIMEZONE:America/Toronto
BEGIN:VTIMEZONE
TZID:America/Toronto
X-LIC-LOCATION:America/Toronto
BEGIN:DAYLIGHT
TZNAME:EDT
TZOFFSETFROM:-0500
TZOFFSETTO:-0400
DTSTART:20210314T070000
END:DAYLIGHT
BEGIN:STANDARD
TZNAME:EST
TZOFFSETFROM:-0400
TZOFFSETTO:-0500
DTSTART:20201101T060000
END:STANDARD
END:VTIMEZONE
BEGIN:VEVENT
UID:69e35e68a195b
DTSTART;TZID=America/Toronto:20211103T163000
SEQUENCE:0
TRANSP:TRANSPARENT
DTEND;TZID=America/Toronto:20211103T180000
URL:https://uwaterloo.ca/arts/events/careers-tech
SUMMARY:Careers in Tech
CLASS:PUBLIC
DESCRIPTION:Being a techie\, and an Arts student is not mutually exclusive.
  Hear\nfrom Arts alumni about how they've been able to navigate the tech\n
 industry as an Arts degree holder. Collectively\, our alumni speakers\nhav
 e worked for the likes of: Blackberry\, IBM\, Rogers\, Point Click\nCare\
 , Facebook\, and many other startup and established tech\ncompanies. 
DTSTAMP:20260418T103520Z
END:VEVENT
END:VCALENDAR