BEGIN:VCALENDAR
VERSION:2.0
PRODID:-//Drupal iCal API//EN
X-WR-CALNAME:Events items teaser
X-WR-TIMEZONE:America/Toronto
BEGIN:VTIMEZONE
TZID:America/Toronto
X-LIC-LOCATION:America/Toronto
BEGIN:DAYLIGHT
TZNAME:EDT
TZOFFSETFROM:-0500
TZOFFSETTO:-0400
DTSTART:20210314T070000
END:DAYLIGHT
BEGIN:STANDARD
TZNAME:EST
TZOFFSETFROM:-0400
TZOFFSETTO:-0500
DTSTART:20211107T060000
END:STANDARD
END:VTIMEZONE
BEGIN:VEVENT
UID:69ecd8aeb30f5
DTSTART;TZID=America/Toronto:20220311T120000
SEQUENCE:0
TRANSP:TRANSPARENT
DTEND;TZID=America/Toronto:20220311T133000
URL:https://uwaterloo.ca/arts/events/careers-english-majors-alumni-lunch-ho
 ur-panel
SUMMARY:Careers for English Majors Alumni Lunch Hour Panel
CLASS:PUBLIC
DESCRIPTION:Careers for English Majors Alumni Lunch Hour Panel\, March 11
DTSTAMP:20260425T150726Z
END:VEVENT
END:VCALENDAR