BEGIN:VCALENDAR
VERSION:2.0
PRODID:-//Drupal iCal API//EN
X-WR-CALNAME:Events items teaser
X-WR-TIMEZONE:America/Toronto
BEGIN:VTIMEZONE
TZID:America/Toronto
X-LIC-LOCATION:America/Toronto
BEGIN:DAYLIGHT
TZNAME:EDT
TZOFFSETFROM:-0500
TZOFFSETTO:-0400
DTSTART:20220313T070000
END:DAYLIGHT
BEGIN:STANDARD
TZNAME:EST
TZOFFSETFROM:-0400
TZOFFSETTO:-0500
DTSTART:20211107T060000
END:STANDARD
END:VTIMEZONE
BEGIN:VEVENT
UID:69ecd90103b8b
DTSTART;TZID=America/Toronto:20220420T190000
SEQUENCE:0
TRANSP:TRANSPARENT
DTEND;TZID=America/Toronto:20220420T200000
URL:https://uwaterloo.ca/arts/events/grad-class-send-2023
SUMMARY:Grad Class Send-Off 2022
CLASS:PUBLIC
DESCRIPTION:Congratulations Class of 2022. You made it! To honour your\na
 chievements\, we invite you to join us at Grad Class Send-Off\n2022.  
DTSTAMP:20260425T150849Z
END:VEVENT
END:VCALENDAR