BEGIN:VCALENDAR
VERSION:2.0
PRODID:-//Drupal iCal API//EN
X-WR-CALNAME:Events items teaser
X-WR-TIMEZONE:America/Toronto
BEGIN:VTIMEZONE
TZID:America/Toronto
X-LIC-LOCATION:America/Toronto
BEGIN:DAYLIGHT
TZNAME:EDT
TZOFFSETFROM:-0500
TZOFFSETTO:-0400
DTSTART:20220313T070000
END:DAYLIGHT
BEGIN:STANDARD
TZNAME:EST
TZOFFSETFROM:-0400
TZOFFSETTO:-0500
DTSTART:20211107T060000
END:STANDARD
END:VTIMEZONE
BEGIN:VEVENT
UID:69ecd93204216
DTSTART;TZID=America/Toronto:20220527T120000
SEQUENCE:0
TRANSP:TRANSPARENT
DTEND;TZID=America/Toronto:20220527T133000
URL:https://uwaterloo.ca/arts/events/conversations-cafe-careers-marketing-a
 nd-communications
SUMMARY:Conversations Café: Careers in Marketing and Communications
CLASS:PUBLIC
DESCRIPTION:Are you curious about career opportunities in Marketing and\nCo
 mmunications?\n\nJoin us in a conversation with Arts alumni who are leadin
 g the way\nin Marketing and Communications roles across various sectors.
DTSTAMP:20260425T150938Z
END:VEVENT
END:VCALENDAR