BEGIN:VCALENDAR
VERSION:2.0
PRODID:-//Drupal iCal API//EN
X-WR-CALNAME:Events items teaser
X-WR-TIMEZONE:America/Toronto
BEGIN:VTIMEZONE
TZID:America/Toronto
X-LIC-LOCATION:America/Toronto
BEGIN:DAYLIGHT
TZNAME:EDT
TZOFFSETFROM:-0500
TZOFFSETTO:-0400
DTSTART:20240310T070000
END:DAYLIGHT
BEGIN:STANDARD
TZNAME:EST
TZOFFSETFROM:-0400
TZOFFSETTO:-0500
DTSTART:20231105T060000
END:STANDARD
END:VTIMEZONE
BEGIN:VEVENT
UID:69dd334eafc05
DTSTART;VALUE=DATE:20241016
SEQUENCE:0
TRANSP:TRANSPARENT
DTEND;VALUE=DATE:20241019
URL:https://uwaterloo.ca/associate-vice-president-academic/events/instructi
 onal-skills-workshop
SUMMARY:Instructional Skills Workshop
CLASS:PUBLIC
DESCRIPTION:The Instructional Skills Workshop (ISW) is an intensive\,\ncoll
 aborative\, and experiential learning model that uses videotaped\nmicro-te
 aching and peer feedback sessions to support the teaching\nreflection and 
 growth of both new and experienced instructors. The ISW\npromotes particip
 atory learning and community building and encourages\nexamination of teach
 ing practices with feedback focused on the\nlearning process rather than o
 n the specific content of the lesson.\nEach participant will receive a wid
 ely-recognized certificate of\nachievement upon successful completion of t
 he ISW\, which requires 24\ncontact hours\, over three or four days.
X-MICROSOFT-CDO-ALLDAYEVENT:TRUE
DTSTAMP:20260413T181750Z
END:VEVENT
END:VCALENDAR