BEGIN:VCALENDAR
VERSION:2.0
PRODID:-//Drupal iCal API//EN
X-WR-CALNAME:Events items teaser
X-WR-TIMEZONE:America/Toronto
BEGIN:VTIMEZONE
TZID:America/Toronto
X-LIC-LOCATION:America/Toronto
BEGIN:DAYLIGHT
TZNAME:EDT
TZOFFSETFROM:-0500
TZOFFSETTO:-0400
DTSTART:20190310T070000
END:DAYLIGHT
BEGIN:STANDARD
TZNAME:EST
TZOFFSETFROM:-0400
TZOFFSETTO:-0500
DTSTART:20181104T060000
END:STANDARD
END:VTIMEZONE
BEGIN:VEVENT
UID:69e0b316b8cc8
DTSTART;TZID=America/Toronto:20190812T193000
SEQUENCE:0
TRANSP:TRANSPARENT
DTEND;TZID=America/Toronto:20190812T230000
URL:https://uwaterloo.ca/astrophysics-centre/events/perseids-sky-watching-p
 arty-and-cosmic-mirages-lecture
SUMMARY:Perseids Sky-watching Party and Cosmic Mirages Lecture
CLASS:PUBLIC
DESCRIPTION:[Night sky with telescopes]
DTSTAMP:20260416T095950Z
END:VEVENT
END:VCALENDAR