BEGIN:VCALENDAR
VERSION:2.0
PRODID:-//Drupal iCal API//EN
X-WR-CALNAME:Events items teaser
X-WR-TIMEZONE:America/Toronto
BEGIN:VTIMEZONE
TZID:America/Toronto
X-LIC-LOCATION:America/Toronto
BEGIN:DAYLIGHT
TZNAME:EDT
TZOFFSETFROM:-0500
TZOFFSETTO:-0400
DTSTART:20240310T070000
END:DAYLIGHT
BEGIN:STANDARD
TZNAME:EST
TZOFFSETFROM:-0400
TZOFFSETTO:-0500
DTSTART:20241103T060000
END:STANDARD
END:VTIMEZONE
BEGIN:VEVENT
UID:69e63b1bd9414
DTSTART;TZID=America/Toronto:20250129T113000
SEQUENCE:0
TRANSP:TRANSPARENT
DTEND;TZID=America/Toronto:20250129T123000
URL:https://uwaterloo.ca/astrophysics-centre/events/astroseminar-naadiyah-j
 agga
LOCATION:PHY 308 200 University Avenue West Waterloo ON N2L 3G1 Canada
SUMMARY:Astroseminar - Naadiyah Jagga
CLASS:PUBLIC
DESCRIPTION:Naadiyah Jagga is a Ph.D. candidate in Astronomy at York Univer
 sity.\nShe did her undergraduate and master's degrees at Leiden\nObservato
 ry. She is interested in the evolution of galaxies\, with\nfocus on the s
 tellar mass of galaxies. Her research\, under supervision\nof Dr. Adam Muz
 zin\, involves creating and analysing spatially resolved\nmaps of galaxies
  observed by JWST.  She is a member of the Canadian\nNIRISS Unbiased Clus
 ter Survey (CANUCS) program\, the JWST Ultradeep\nNirspec and NIRCam Obser
 Vations before the Epoch of Reionization\n(UNCOVER) program and co-PI of t
 he JWST Ultimate Medium-band\nPhotometric Survey (JUMPS) program.
DTSTAMP:20260420T144131Z
END:VEVENT
END:VCALENDAR