BEGIN:VCALENDAR
VERSION:2.0
PRODID:-//Drupal iCal API//EN
X-WR-CALNAME:Events items teaser
X-WR-TIMEZONE:America/Toronto
BEGIN:VTIMEZONE
TZID:America/Toronto
X-LIC-LOCATION:America/Toronto
BEGIN:DAYLIGHT
TZNAME:EDT
TZOFFSETFROM:-0500
TZOFFSETTO:-0400
DTSTART:20250309T070000
END:DAYLIGHT
BEGIN:STANDARD
TZNAME:EST
TZOFFSETFROM:-0400
TZOFFSETTO:-0500
DTSTART:20241103T060000
END:STANDARD
END:VTIMEZONE
BEGIN:VEVENT
UID:69e54a4da68a6
DTSTART;TZID=America/Toronto:20250625T190000
SEQUENCE:0
TRANSP:TRANSPARENT
DTEND;TZID=America/Toronto:20250625T200000
URL:https://uwaterloo.ca/astrophysics-centre/events/wca-kpl-public-talk-map
 ping-millions-galaxies-desi-dustin
LOCATION:Kitchener Public Library (Central Library) Meeting room D+E 85 Que
 en St N Kitchener ON Canada
SUMMARY:WCA-KPL Public Talk - Mapping Millions of Galaxies with DESI (Dusti
 n\nLang)
CLASS:PUBLIC
DESCRIPTION:The Dark Energy Spectroscopic Instrument (DESI) is helping scie
 ntists\nto produce the largest and most comprehensive map of galaxies ever
 \nseen. This map is then being used by cosmologists to understand the\ngro
 wth of the Universe over cosmic time. In this month’s KPL\nastronomy tal
 k\, Dustin Lang will discuss the technology behind this\ninnovative experi
 ment\, and how these advances have allowed\ncosmologists to make insights 
 that change our view of the Universe.
DTSTAMP:20260419T213405Z
END:VEVENT
END:VCALENDAR