BEGIN:VCALENDAR
VERSION:2.0
PRODID:-//Drupal iCal API//EN
X-WR-CALNAME:Events items teaser
X-WR-TIMEZONE:America/Toronto
BEGIN:VTIMEZONE
TZID:America/Toronto
X-LIC-LOCATION:America/Toronto
BEGIN:DAYLIGHT
TZNAME:EDT
TZOFFSETFROM:-0500
TZOFFSETTO:-0400
DTSTART:20240310T070000
END:DAYLIGHT
BEGIN:STANDARD
TZNAME:EST
TZOFFSETFROM:-0400
TZOFFSETTO:-0500
DTSTART:20231105T060000
END:STANDARD
END:VTIMEZONE
BEGIN:VEVENT
UID:69d4af818b34e
DTSTART;TZID=America/Toronto:20240424T121000
SEQUENCE:0
TRANSP:TRANSPARENT
DTEND;TZID=America/Toronto:20240424T130000
URL:https://uwaterloo.ca/bioengineering-biotechnology/events/profs-presents
 -beyond-limitations-how-inclusive-technologies
LOCATION:Zoom Canada
SUMMARY:Profs Presents - Beyond Limitations: How Inclusive Technologies Can
 \nBreak Down Barriers in Disability and Mental Health
CLASS:PUBLIC
DESCRIPTION:Imagine a world where everyone\, regardless of ability\, can lo
 se\nthemselves in the joy of playing a videogame\, or the thrill of playin
 g\nmusic\, or even the satisfaction of being able to water your plants or\
 ngrow your first tomato? Accessible technology can make this world a\nreal
 ity. Dr. Karen Cochrane is looking at how we can better design\nassistive 
 technologies that can help support everyone to participate\nand enjoy thei
 r hobbies no matter their cognitive or physical ability.\nIn this talk she
  will discuss some of her previous work and ongoing\nprojects in her lab t
 he Embodied Computing Lab where she is working on\nprojects in both the ar
 ea of accessible technology and designing\ntechnology to support mental he
 alth.
DTSTAMP:20260407T071721Z
END:VEVENT
END:VCALENDAR