BEGIN:VCALENDAR
VERSION:2.0
PRODID:-//Drupal iCal API//EN
X-WR-CALNAME:Events items teaser
X-WR-TIMEZONE:America/Toronto
BEGIN:VTIMEZONE
TZID:America/Toronto
X-LIC-LOCATION:America/Toronto
BEGIN:DAYLIGHT
TZNAME:EDT
TZOFFSETFROM:-0500
TZOFFSETTO:-0400
DTSTART:20240310T070000
END:DAYLIGHT
BEGIN:STANDARD
TZNAME:EST
TZOFFSETFROM:-0400
TZOFFSETTO:-0500
DTSTART:20231105T060000
END:STANDARD
END:VTIMEZONE
BEGIN:VEVENT
UID:69d4afbd36f25
DTSTART;TZID=America/Toronto:20240626T121000
SEQUENCE:0
TRANSP:TRANSPARENT
DTEND;TZID=America/Toronto:20240626T130000
URL:https://uwaterloo.ca/bioengineering-biotechnology/events/profs-presents
 -understanding-individual-healthcare-seeking
LOCATION:Zoom Canada
SUMMARY:Profs Presents - Understanding the Individual Healthcare Seeking\nJ
 ourney: Insights for Healthcare Providers
CLASS:PUBLIC
DESCRIPTION:In this talk\, the speaker will share insights garnered from re
 search\nconducted in TB-high burden countries\, shedding light on the\nind
 ividual healthcare seeking journey and its implications for\nhealthcare pr
 oviders across diverse settings. Through a nuanced\nexamination of healthc
 are seeking behaviours\, she will elucidate the\nuniversal challenges and 
 opportunities inherent in patient care.\nSpanning from resource-rich to re
 source-constrained environments\, this\ntalk will delve into the hurdles f
 aced by individuals and\nopportunities for impactful support.
DTSTAMP:20260407T071821Z
END:VEVENT
END:VCALENDAR