BEGIN:VCALENDAR
VERSION:2.0
PRODID:-//Drupal iCal API//EN
X-WR-CALNAME:Events items teaser
X-WR-TIMEZONE:America/Toronto
BEGIN:VTIMEZONE
TZID:America/Toronto
X-LIC-LOCATION:America/Toronto
BEGIN:DAYLIGHT
TZNAME:EDT
TZOFFSETFROM:-0500
TZOFFSETTO:-0400
DTSTART:20130310T070000
END:DAYLIGHT
BEGIN:STANDARD
TZNAME:EST
TZOFFSETFROM:-0400
TZOFFSETTO:-0500
DTSTART:20121104T060000
END:STANDARD
END:VTIMEZONE
BEGIN:VEVENT
UID:69d4286b43f26
DTSTART;TZID=America/Toronto:20131024T133000
SEQUENCE:0
TRANSP:TRANSPARENT
DTEND;TZID=America/Toronto:20131024T143000
URL:https://uwaterloo.ca/bioengineering-biotechnology/events/biomedical-dis
 cussion-group-lecture-dr-soo-ik-chang
LOCATION:E5 - Engineering 5 200 University Avenue West Room 3052 Waterloo O
 N N2L 3G1 Canada
SUMMARY:Biomedical Discussion Group Lecture - Dr. Soo-Ik Chang
CLASS:PUBLIC
DTSTAMP:20260406T214059Z
END:VEVENT
END:VCALENDAR