BEGIN:VCALENDAR
VERSION:2.0
PRODID:-//Drupal iCal API//EN
X-WR-CALNAME:Events items teaser
X-WR-TIMEZONE:America/Toronto
BEGIN:VTIMEZONE
TZID:America/Toronto
X-LIC-LOCATION:America/Toronto
BEGIN:DAYLIGHT
TZNAME:EDT
TZOFFSETFROM:-0500
TZOFFSETTO:-0400
DTSTART:20140309T070000
END:DAYLIGHT
BEGIN:STANDARD
TZNAME:EST
TZOFFSETFROM:-0400
TZOFFSETTO:-0500
DTSTART:20131103T060000
END:STANDARD
END:VTIMEZONE
BEGIN:VEVENT
UID:69d40bd2b91c0
DTSTART;TZID=America/Toronto:20140929T093000
SEQUENCE:0
TRANSP:TRANSPARENT
DTEND;TZID=America/Toronto:20141001T120000
URL:https://uwaterloo.ca/bioengineering-biotechnology/events/national-biote
 chnology-week-2014
LOCATION:DC - William G. Davis Computer Research Centre 200 University Aven
 ue West Room 1301 and 1302 Waterloo ON N2L 3G1 Canada
SUMMARY:National Biotechnology Week 2014
CLASS:PUBLIC
DESCRIPTION:[nbw 2014]
DTSTAMP:20260406T193858Z
END:VEVENT
END:VCALENDAR