BEGIN:VCALENDAR
VERSION:2.0
PRODID:-//Drupal iCal API//EN
X-WR-CALNAME:Events items teaser
X-WR-TIMEZONE:America/Toronto
BEGIN:VTIMEZONE
TZID:America/Toronto
X-LIC-LOCATION:America/Toronto
BEGIN:DAYLIGHT
TZNAME:EDT
TZOFFSETFROM:-0500
TZOFFSETTO:-0400
DTSTART:20160313T070000
END:DAYLIGHT
BEGIN:STANDARD
TZNAME:EST
TZOFFSETFROM:-0400
TZOFFSETTO:-0500
DTSTART:20151101T060000
END:STANDARD
BEGIN:STANDARD
TZNAME:EST
TZOFFSETFROM:-0400
TZOFFSETTO:-0500
DTSTART:20161106T060000
END:STANDARD
END:VTIMEZONE
BEGIN:VEVENT
UID:69d4e05fab4fa
DTSTART;TZID=America/Toronto:20160903T143000
SEQUENCE:0
TRANSP:TRANSPARENT
DTEND;TZID=America/Toronto:20160903T143000
URL:https://uwaterloo.ca/bioengineering-biotechnology/events/biomedical-dis
 cussion-group
LOCATION:STC - Science Teaching Complex 200 University Ave West Room 1019 (
 between Starbucks and MediaDoc) Waterloo ON N2L 3G1 Canada
SUMMARY:Biomedical Discussion Group
CLASS:PUBLIC
DTSTAMP:20260407T104551Z
END:VEVENT
BEGIN:VEVENT
UID:69d4e05fac8fd
DTSTART;TZID=America/Toronto:20161003T143000
SEQUENCE:0
TRANSP:TRANSPARENT
DTEND;TZID=America/Toronto:20161003T143000
URL:https://uwaterloo.ca/bioengineering-biotechnology/events/biomedical-dis
 cussion-group
LOCATION:STC - Science Teaching Complex 200 University Ave West Room 1019 (
 between Starbucks and MediaDoc) Waterloo ON N2L 3G1 Canada
SUMMARY:Biomedical Discussion Group
CLASS:PUBLIC
DTSTAMP:20260407T104551Z
END:VEVENT
BEGIN:VEVENT
UID:69d4e05fad3ec
DTSTART;TZID=America/Toronto:20161103T143000
SEQUENCE:0
TRANSP:TRANSPARENT
DTEND;TZID=America/Toronto:20161103T143000
URL:https://uwaterloo.ca/bioengineering-biotechnology/events/biomedical-dis
 cussion-group
LOCATION:STC - Science Teaching Complex 200 University Ave West Room 1019 (
 between Starbucks and MediaDoc) Waterloo ON N2L 3G1 Canada
SUMMARY:Biomedical Discussion Group
CLASS:PUBLIC
DTSTAMP:20260407T104551Z
END:VEVENT
BEGIN:VEVENT
UID:69d4e05fadea5
DTSTART;TZID=America/Toronto:20161203T143000
SEQUENCE:0
TRANSP:TRANSPARENT
DTEND;TZID=America/Toronto:20161203T143000
URL:https://uwaterloo.ca/bioengineering-biotechnology/events/biomedical-dis
 cussion-group
LOCATION:STC - Science Teaching Complex 200 University Ave West Room 1019 (
 between Starbucks and MediaDoc) Waterloo ON N2L 3G1 Canada
SUMMARY:Biomedical Discussion Group
CLASS:PUBLIC
DTSTAMP:20260407T104551Z
END:VEVENT
END:VCALENDAR