BEGIN:VCALENDAR
VERSION:2.0
PRODID:-//Drupal iCal API//EN
X-WR-CALNAME:Events items teaser
X-WR-TIMEZONE:America/Toronto
BEGIN:VTIMEZONE
TZID:America/Toronto
X-LIC-LOCATION:America/Toronto
BEGIN:DAYLIGHT
TZNAME:EDT
TZOFFSETFROM:-0500
TZOFFSETTO:-0400
DTSTART:20160313T070000
END:DAYLIGHT
BEGIN:STANDARD
TZNAME:EST
TZOFFSETFROM:-0400
TZOFFSETTO:-0500
DTSTART:20161106T060000
END:STANDARD
END:VTIMEZONE
BEGIN:VEVENT
UID:69d4e69781ebb
DTSTART;TZID=America/Toronto:20161130T103000
SEQUENCE:0
TRANSP:TRANSPARENT
DTEND;TZID=America/Toronto:20161130T120000
URL:https://uwaterloo.ca/bioengineering-biotechnology/events/cbb-workshop-u
 waterloo-intellectual-property-part-3
LOCATION:DC - William G. Davis Computer Research Centre 200 University Aven
 ue West Room 1304 Waterloo ON N2L 3G1 Canada
SUMMARY:CBB Workshop: UWaterloo Intellectual Property Part 3 Copyright -\nC
 anceled
CLASS:PUBLIC
DESCRIPTION:THE COPYRIGHT WORKSHOP ON NOVEMBER 30TH\, 2016 IS CANCELED.  I
 f you\nare interested in connecting with any of the speakers or had specif
 ic\nquestions about the presentation\, please contact one of the following
 \nindividuals:
DTSTAMP:20260407T111223Z
END:VEVENT
END:VCALENDAR