BEGIN:VCALENDAR
VERSION:2.0
PRODID:-//Drupal iCal API//EN
X-WR-CALNAME:Events items teaser
X-WR-TIMEZONE:America/Toronto
BEGIN:VTIMEZONE
TZID:America/Toronto
X-LIC-LOCATION:America/Toronto
BEGIN:DAYLIGHT
TZNAME:EDT
TZOFFSETFROM:-0500
TZOFFSETTO:-0400
DTSTART:20170312T070000
END:DAYLIGHT
BEGIN:STANDARD
TZNAME:EST
TZOFFSETFROM:-0400
TZOFFSETTO:-0500
DTSTART:20161106T060000
END:STANDARD
END:VTIMEZONE
BEGIN:VEVENT
UID:69d4ed2a7f6ce
DTSTART;TZID=America/Toronto:20170329T103000
SEQUENCE:0
TRANSP:TRANSPARENT
DTEND;TZID=America/Toronto:20170329T120000
URL:https://uwaterloo.ca/bioengineering-biotechnology/events/cbb-workshop-u
 waterloo-intellectual-property-part-4
LOCATION:QNC - Quantum Nano Centre 200 University Avenue West Room 1501 Wat
 erloo ON N2L 3G1 Canada
SUMMARY:CBB Workshop: UWaterloo Intellectual Property Part 4 Trademarks\, T
 rade\nSecrets\, Industrial Designs and Branding
CLASS:PUBLIC
DESCRIPTION:The top three most valuable brands in the world in 2016 (accord
 ing to\nForbes) were Apple ($154.1 billion)\, Google ($82.5 billion)\, and
 \nMicrosoft ($75.2 billion). Learn how to create and protect your\nbrand's
  value by attending the free trademark presentation.
DTSTAMP:20260407T114026Z
END:VEVENT
END:VCALENDAR