BEGIN:VCALENDAR
VERSION:2.0
PRODID:-//Drupal iCal API//EN
X-WR-CALNAME:Events items teaser
X-WR-TIMEZONE:America/Toronto
BEGIN:VTIMEZONE
TZID:America/Toronto
X-LIC-LOCATION:America/Toronto
BEGIN:DAYLIGHT
TZNAME:EDT
TZOFFSETFROM:-0500
TZOFFSETTO:-0400
DTSTART:20160313T070000
END:DAYLIGHT
BEGIN:DAYLIGHT
TZNAME:EDT
TZOFFSETFROM:-0500
TZOFFSETTO:-0400
DTSTART:20170312T070000
END:DAYLIGHT
BEGIN:STANDARD
TZNAME:EST
TZOFFSETFROM:-0400
TZOFFSETTO:-0500
DTSTART:20161106T060000
END:STANDARD
END:VTIMEZONE
BEGIN:VEVENT
UID:69d4e05a137e4
DTSTART;TZID=America/Toronto:20170203T143000
SEQUENCE:0
TRANSP:TRANSPARENT
DTEND;TZID=America/Toronto:20170203T143000
URL:https://uwaterloo.ca/bioengineering-biotechnology/events/biomedical-dis
 cussion-group-0
LOCATION:200 University Ave West Waterloo ON N2L 3G1 Canada
SUMMARY:Biomedical Discussion Group
CLASS:PUBLIC
DTSTAMP:20260407T104546Z
END:VEVENT
BEGIN:VEVENT
UID:69d4e05a147bc
DTSTART;TZID=America/Toronto:20170303T143000
SEQUENCE:0
TRANSP:TRANSPARENT
DTEND;TZID=America/Toronto:20170303T143000
URL:https://uwaterloo.ca/bioengineering-biotechnology/events/biomedical-dis
 cussion-group-0
LOCATION:200 University Ave West Waterloo ON N2L 3G1 Canada
SUMMARY:Biomedical Discussion Group
CLASS:PUBLIC
DTSTAMP:20260407T104546Z
END:VEVENT
BEGIN:VEVENT
UID:69d4e05a1515a
DTSTART;TZID=America/Toronto:20170403T143000
SEQUENCE:0
TRANSP:TRANSPARENT
DTEND;TZID=America/Toronto:20170403T143000
URL:https://uwaterloo.ca/bioengineering-biotechnology/events/biomedical-dis
 cussion-group-0
LOCATION:200 University Ave West Waterloo ON N2L 3G1 Canada
SUMMARY:Biomedical Discussion Group
CLASS:PUBLIC
DTSTAMP:20260407T104546Z
END:VEVENT
BEGIN:VEVENT
UID:69d4e05a15a32
DTSTART;TZID=America/Toronto:20170503T143000
SEQUENCE:0
TRANSP:TRANSPARENT
DTEND;TZID=America/Toronto:20170503T143000
URL:https://uwaterloo.ca/bioengineering-biotechnology/events/biomedical-dis
 cussion-group-0
LOCATION:200 University Ave West Waterloo ON N2L 3G1 Canada
SUMMARY:Biomedical Discussion Group
CLASS:PUBLIC
DTSTAMP:20260407T104546Z
END:VEVENT
BEGIN:VEVENT
UID:69d4e05a163cf
DTSTART;TZID=America/Toronto:20170603T143000
SEQUENCE:0
TRANSP:TRANSPARENT
DTEND;TZID=America/Toronto:20170603T143000
URL:https://uwaterloo.ca/bioengineering-biotechnology/events/biomedical-dis
 cussion-group-0
LOCATION:200 University Ave West Waterloo ON N2L 3G1 Canada
SUMMARY:Biomedical Discussion Group
CLASS:PUBLIC
DTSTAMP:20260407T104546Z
END:VEVENT
BEGIN:VEVENT
UID:69d4e05a16c93
DTSTART;TZID=America/Toronto:20170703T143000
SEQUENCE:0
TRANSP:TRANSPARENT
DTEND;TZID=America/Toronto:20170703T143000
URL:https://uwaterloo.ca/bioengineering-biotechnology/events/biomedical-dis
 cussion-group-0
LOCATION:200 University Ave West Waterloo ON N2L 3G1 Canada
SUMMARY:Biomedical Discussion Group
CLASS:PUBLIC
DTSTAMP:20260407T104546Z
END:VEVENT
BEGIN:VEVENT
UID:69d4e05a1760e
DTSTART;TZID=America/Toronto:20170803T143000
SEQUENCE:0
TRANSP:TRANSPARENT
DTEND;TZID=America/Toronto:20170803T143000
URL:https://uwaterloo.ca/bioengineering-biotechnology/events/biomedical-dis
 cussion-group-0
LOCATION:200 University Ave West Waterloo ON N2L 3G1 Canada
SUMMARY:Biomedical Discussion Group
CLASS:PUBLIC
DTSTAMP:20260407T104546Z
END:VEVENT
BEGIN:VEVENT
UID:69d4e05a18129
DTSTART;TZID=America/Toronto:20170903T143000
SEQUENCE:0
TRANSP:TRANSPARENT
DTEND;TZID=America/Toronto:20170903T143000
URL:https://uwaterloo.ca/bioengineering-biotechnology/events/biomedical-dis
 cussion-group-0
LOCATION:200 University Ave West Waterloo ON N2L 3G1 Canada
SUMMARY:Biomedical Discussion Group
CLASS:PUBLIC
DTSTAMP:20260407T104546Z
END:VEVENT
BEGIN:VEVENT
UID:69d4e05a18c13
DTSTART;TZID=America/Toronto:20171003T143000
SEQUENCE:0
TRANSP:TRANSPARENT
DTEND;TZID=America/Toronto:20171003T143000
URL:https://uwaterloo.ca/bioengineering-biotechnology/events/biomedical-dis
 cussion-group-0
LOCATION:200 University Ave West Waterloo ON N2L 3G1 Canada
SUMMARY:Biomedical Discussion Group
CLASS:PUBLIC
DTSTAMP:20260407T104546Z
END:VEVENT
BEGIN:VEVENT
UID:69d4e05a19669
DTSTART;TZID=America/Toronto:20171103T143000
SEQUENCE:0
TRANSP:TRANSPARENT
DTEND;TZID=America/Toronto:20171103T143000
URL:https://uwaterloo.ca/bioengineering-biotechnology/events/biomedical-dis
 cussion-group-0
LOCATION:200 University Ave West Waterloo ON N2L 3G1 Canada
SUMMARY:Biomedical Discussion Group
CLASS:PUBLIC
DTSTAMP:20260407T104546Z
END:VEVENT
BEGIN:VEVENT
UID:69d4e05a1a12c
DTSTART;TZID=America/Toronto:20170809T103000
SEQUENCE:0
TRANSP:TRANSPARENT
DTEND;TZID=America/Toronto:20170809T103000
URL:https://uwaterloo.ca/bioengineering-biotechnology/events/biomedical-dis
 cussion-group-0
LOCATION:200 University Ave West Waterloo ON N2L 3G1 Canada
SUMMARY:Biomedical Discussion Group
CLASS:PUBLIC
DTSTAMP:20260407T104546Z
END:VEVENT
BEGIN:VEVENT
UID:69d4e05a1ac90
DTSTART;TZID=America/Toronto:20170929T103000
SEQUENCE:0
TRANSP:TRANSPARENT
DTEND;TZID=America/Toronto:20170929T103000
URL:https://uwaterloo.ca/bioengineering-biotechnology/events/biomedical-dis
 cussion-group-0
LOCATION:200 University Ave West Waterloo ON N2L 3G1 Canada
SUMMARY:Biomedical Discussion Group
CLASS:PUBLIC
DTSTAMP:20260407T104546Z
END:VEVENT
END:VCALENDAR