BEGIN:VCALENDAR
VERSION:2.0
PRODID:-//Drupal iCal API//EN
X-WR-CALNAME:Events items teaser
X-WR-TIMEZONE:America/Toronto
BEGIN:VTIMEZONE
TZID:America/Toronto
X-LIC-LOCATION:America/Toronto
BEGIN:DAYLIGHT
TZNAME:EDT
TZOFFSETFROM:-0500
TZOFFSETTO:-0400
DTSTART:20170312T070000
END:DAYLIGHT
BEGIN:STANDARD
TZNAME:EST
TZOFFSETFROM:-0400
TZOFFSETTO:-0500
DTSTART:20171105T060000
END:STANDARD
END:VTIMEZONE
BEGIN:VEVENT
UID:69d5bfff56708
DTSTART;TZID=America/Toronto:20171204T103000
SEQUENCE:0
TRANSP:TRANSPARENT
DTEND;TZID=America/Toronto:20171204T120000
URL:https://uwaterloo.ca/bioengineering-biotechnology/events/cbb-annual-gen
 eral-meeting
LOCATION:DC - William G. Davis Computer Research Centre 200 University Aven
 ue West Room 1301 (Fishbowl) Waterloo ON N2L 3G1 Canada
SUMMARY:CBB Annual General Meeting
CLASS:PUBLIC
DESCRIPTION:CBB ANNUAL GENERAL MEETING WITH GUEST SPEAKER[&lt;--break-&gt;]
DTSTAMP:20260408T023959Z
END:VEVENT
END:VCALENDAR