BEGIN:VCALENDAR
VERSION:2.0
PRODID:-//Drupal iCal API//EN
X-WR-CALNAME:Events items teaser
X-WR-TIMEZONE:America/Toronto
BEGIN:VTIMEZONE
TZID:America/Toronto
X-LIC-LOCATION:America/Toronto
BEGIN:DAYLIGHT
TZNAME:EDT
TZOFFSETFROM:-0500
TZOFFSETTO:-0400
DTSTART:20190310T070000
END:DAYLIGHT
BEGIN:STANDARD
TZNAME:EST
TZOFFSETFROM:-0400
TZOFFSETTO:-0500
DTSTART:20181104T060000
END:STANDARD
END:VTIMEZONE
BEGIN:VEVENT
UID:69d4e04e2b0f7
DTSTART;TZID=America/Toronto:20190712T143000
SEQUENCE:0
TRANSP:TRANSPARENT
DTEND;TZID=America/Toronto:20190712T153000
URL:https://uwaterloo.ca/bioengineering-biotechnology/events/biomedical-dis
 cussion-group-ali-boolani
LOCATION:EC4 - East Campus 4 200 University Ave West Room 2101A Waterloo ON
  N2L 3G1 Canada
SUMMARY:Biomedical Discussion Group: Dr. Ali Boolani Clarkson University\, 
 New\nYork\, USA
CLASS:PUBLIC
DESCRIPTION:[Biomedical Discussion Group]
DTSTAMP:20260407T104534Z
END:VEVENT
END:VCALENDAR