BEGIN:VCALENDAR
VERSION:2.0
PRODID:-//Drupal iCal API//EN
X-WR-CALNAME:Events items teaser
X-WR-TIMEZONE:America/Toronto
BEGIN:VTIMEZONE
TZID:America/Toronto
X-LIC-LOCATION:America/Toronto
BEGIN:DAYLIGHT
TZNAME:EDT
TZOFFSETFROM:-0500
TZOFFSETTO:-0400
DTSTART:20200308T070000
END:DAYLIGHT
BEGIN:STANDARD
TZNAME:EST
TZOFFSETFROM:-0400
TZOFFSETTO:-0500
DTSTART:20191103T060000
END:STANDARD
END:VTIMEZONE
BEGIN:VEVENT
UID:69d4b5a116d2d
DTSTART;TZID=America/Toronto:20200325T120000
SEQUENCE:0
TRANSP:TRANSPARENT
DTEND;TZID=America/Toronto:20200325T130000
URL:https://uwaterloo.ca/bioengineering-biotechnology/events/pwp-sean-meeha
 n
LOCATION:Grand River Hospital - Freeport Campus 3570 King Street East Sun L
 ife Town Hall\, First Floor Kitchener ON N2A 2W1 Canada
SUMMARY:Pizza with the Profs: Cognitive-Motor Interactions and their\nImpli
 cations for Motor Learning-Based Interventions Post-Stroke
CLASS:PUBLIC
DESCRIPTION:PROFESSOR SEAN MEEHAN: COGNITIVE-MOTOR INTERACTIONS AND THEIR\n
 IMPLICATIONS FOR MOTOR LEARNING-BASED INTERVENTIONS POST-STROKE\n\nThe eff
 icacy of skilled practice in promoting beneficial brain\nreorganization to
  affect functional recovery has long been\nappreciated. However\, current 
 best practices to stroke rehabilitation\nare labour intensive and characte
 rized by variable levels of\nfunctional recovery.
DTSTAMP:20260407T074329Z
END:VEVENT
END:VCALENDAR